BEGIN:VCALENDAR
PRODID:-//http://statistik.d-u-v.org//PHP ultracalendar//EN
VERSION:2.0
METHOD:PUBLISH
BEGIN:VEVENT
DTSTAMP:20260423T163528
CREATED:20160322T180718
UID:1776962128.0.26079700-32220@statistik.d-u-v.org
SUMMARY:San Tan Scramble 50K
DESCRIPTION: San Tan Scramble 50K\n
  \n
  
DTSTART:20170107T070000
DTEND:00000000T235900
LOCATION:Queen Creek, AZ\, USA
URL:http://www.aravaiparunning.com/avr/san-tan-scramble/
CATEGORIES:Ultramarathon
CONTACT:
CLASS:PUBLIC
PRIORITY:5
TRANSP:OPAQUE
END:VEVENT
END:VCALENDAR
