BEGIN:VCALENDAR
PRODID:-//http://statistik.d-u-v.org//PHP ultracalendar//EN
VERSION:2.0
METHOD:PUBLISH
BEGIN:VEVENT
DTSTAMP:20260423T014837
CREATED:20160320T142008
UID:1776908917.0.31516600-32202@statistik.d-u-v.org
SUMMARY:Borås Ultra Marathon 100mi
DESCRIPTION: Borås Ultra Marathon 100mi\n
  Peter Karlsson\n
  peterkarlsson244[at]hotmail.com
DTSTART:20160527T180000
DTEND:00000000T235900
LOCATION:Göteborg\, SWE
URL:http://bum50miles.dinstudio.se/
CATEGORIES:Ultramarathon
CONTACT:Peter Karlsson
CLASS:PUBLIC
PRIORITY:5
TRANSP:OPAQUE
END:VEVENT
END:VCALENDAR
