BEGIN:VCALENDAR
PRODID:-//http://statistik.d-u-v.org//PHP ultracalendar//EN
VERSION:2.0
METHOD:PUBLISH
BEGIN:VEVENT
DTSTAMP:20260423T070118
CREATED:20160318T200444
UID:1776927678.0.68307700-32134@statistik.d-u-v.org
SUMMARY:Capt'n Karl's Trail Series  - Muleshoe Bend
DESCRIPTION: Capt'n Karl's Trail Series  - Muleshoe Bend\n
  \n
  brad[at]traverserunning.com
DTSTART:20090801T190000
DTEND:20090802T235900
LOCATION:Spicewood, TX\, USA
URL:http://www.traverserunning.com/captn-karls-series/
CATEGORIES:Ultramarathon
CONTACT:
CLASS:PUBLIC
PRIORITY:5
TRANSP:OPAQUE
END:VEVENT
END:VCALENDAR
