BEGIN:VCALENDAR
PRODID:-//http://statistik.d-u-v.org//PHP ultracalendar//EN
VERSION:2.0
METHOD:PUBLISH
BEGIN:VEVENT
DTSTAMP:20260419T164341
CREATED:20160317T124927
UID:1776617021.0.95768100-32043@statistik.d-u-v.org
SUMMARY:Trail La Bouillonnante
DESCRIPTION: Trail La Bouillonnante\n
  Van Gasse\n
  patrick[at]la-bouillonnante.org
DTSTART:20160423T000000
DTEND:00000000T235900
LOCATION:Bouillon\, BEL
URL:http://www.la-bouillonnante.org/
CATEGORIES:Ultramarathon
CONTACT:Van Gasse
CLASS:PUBLIC
PRIORITY:5
TRANSP:OPAQUE
END:VEVENT
END:VCALENDAR
