BEGIN:VCALENDAR
PRODID:-//http://statistik.d-u-v.org//PHP ultracalendar//EN
VERSION:2.0
METHOD:PUBLISH
BEGIN:VEVENT
DTSTAMP:20260419T223155
CREATED:20160317T153559
UID:1776637915.0.07413900-32010@statistik.d-u-v.org
SUMMARY:Oil Creek 100 km Trail Run
DESCRIPTION: Oil Creek 100 km Trail Run\n
  Race Director Tom Jennings\n
  rd_oc100[at]yahoo.com
DTSTART:20161008T000000
DTEND:20161009T235900
LOCATION:Titusville, PA\, USA
URL:http://www.oc100.org/Home
CATEGORIES:Ultramarathon
CONTACT:Race Director Tom Jennings
CLASS:PUBLIC
PRIORITY:5
TRANSP:OPAQUE
END:VEVENT
END:VCALENDAR
