BEGIN:VCALENDAR
PRODID:-//http://statistik.d-u-v.org//PHP ultracalendar//EN
VERSION:2.0
METHOD:PUBLISH
BEGIN:VEVENT
DTSTAMP:20260421T031935
CREATED:20160314T172359
UID:1776741575.0.49663500-31983@statistik.d-u-v.org
SUMMARY:Trail de Vulcain Ultra - Marathon Volcanique
DESCRIPTION: Trail de Vulcain Ultra - Marathon Volcanique\n
  BATISSE Pierre\n
  traildevulcain2015[at]gmail.com
DTSTART:20170305T083000
DTEND:00000000T235900
LOCATION:Volvic\, FRA
URL:http://trail-de-vulcain.fr/
CATEGORIES:Ultramarathon
CONTACT:BATISSE Pierre
CLASS:PUBLIC
PRIORITY:5
TRANSP:OPAQUE
END:VEVENT
END:VCALENDAR
