BEGIN:VCALENDAR
PRODID:-//http://statistik.d-u-v.org//PHP ultracalendar//EN
VERSION:2.0
METHOD:PUBLISH
BEGIN:VEVENT
DTSTAMP:20260424T155346
CREATED:20160312T235233
UID:1777046026.0.41996400-31890@statistik.d-u-v.org
SUMMARY:24 horas en pista Manquehue
DESCRIPTION: 24 horas en pista Manquehue\n
  \n
  info[at]olimpo.cl
DTSTART:20151107T190000
DTEND:20151108T235900
LOCATION:Santiago de Chile\, CHI
URL:http://www.olimpoproducciones.cl/sitio/2015/24horasenpista/
CATEGORIES:Ultramarathon
CONTACT:
CLASS:PUBLIC
PRIORITY:5
TRANSP:OPAQUE
END:VEVENT
END:VCALENDAR
