BEGIN:VCALENDAR
PRODID:-//http://statistik.d-u-v.org//PHP ultracalendar//EN
VERSION:2.0
METHOD:PUBLISH
BEGIN:VEVENT
DTSTAMP:20260425T175858
CREATED:20081219T000000
UID:1777139938.0.99541900-3181@statistik.d-u-v.org
SUMMARY:Soochow/Taipei 24h Ultramarathon
DESCRIPTION: Soochow/Taipei 24h Ultramarathon\n
  \n
  
DTSTART:20081213T090000
DTEND:20081214T090000
LOCATION:Taipei\, TPE
URL:http://ultrarunning.scu.edu.tw/ultrarunning/scu_ultra2008/ultra_24h.php
CATEGORIES:Ultramarathon
CONTACT:
CLASS:PUBLIC
PRIORITY:5
TRANSP:OPAQUE
END:VEVENT
END:VCALENDAR
