BEGIN:VCALENDAR
PRODID:-//http://statistik.d-u-v.org//PHP ultracalendar//EN
VERSION:2.0
METHOD:PUBLISH
BEGIN:VEVENT
DTSTAMP:20260425T214157
CREATED:20160306T094305
UID:1777153317.0.73672400-31791@statistik.d-u-v.org
SUMMARY:Nanjing Laoshan National Forest Park 100 Cross
DESCRIPTION: Nanjing Laoshan National Forest Park 100 Cross\n
  \n
  
DTSTART:20180304T070000
DTEND:20180305T070000
LOCATION:Nanjing City\, CHN
URL:http://iranshao.com/races/7948
CATEGORIES:Ultramarathon
CONTACT:
CLASS:PUBLIC
PRIORITY:5
TRANSP:OPAQUE
END:VEVENT
END:VCALENDAR
