BEGIN:VCALENDAR
PRODID:-//http://statistik.d-u-v.org//PHP ultracalendar//EN
VERSION:2.0
METHOD:PUBLISH
BEGIN:VEVENT
DTSTAMP:20260420T044152
CREATED:20081127T000000
UID:1776660112.0.77813000-3162@statistik.d-u-v.org
SUMMARY:24 Hours of Laramie
DESCRIPTION: 24 Hours of Laramie\n
  Gemini Adventures\n
  reid_delman[at]geminiadventures.com
DTSTART:20080628T000000
DTEND:20080629T235900
LOCATION:Laramie, WY\, USA
URL:http://geminiadventures.com/laramie100.html
CATEGORIES:Ultramarathon
CONTACT:Gemini Adventures
CLASS:PUBLIC
PRIORITY:5
TRANSP:OPAQUE
END:VEVENT
END:VCALENDAR
