BEGIN:VCALENDAR
PRODID:-//http://statistik.d-u-v.org//PHP ultracalendar//EN
VERSION:2.0
METHOD:PUBLISH
BEGIN:VEVENT
DTSTAMP:20260422T201630
CREATED:20160215T203203
UID:1776888990.0.08151900-31424@statistik.d-u-v.org
SUMMARY:Dirty girls 12 hour Trail Race - day run
DESCRIPTION: Dirty girls 12 hour Trail Race - day run\n
  \n
  diane[at]dirtyrunnerproductions.com
DTSTART:20160723T080000
DTEND:00000000T235900
LOCATION:Mansfield, ON\, CAN
URL:http://www.dirtyrunnerproductions.com/dirty_girls_run/index.html
CATEGORIES:Ultramarathon
CONTACT:
CLASS:PUBLIC
PRIORITY:5
TRANSP:OPAQUE
END:VEVENT
END:VCALENDAR
