BEGIN:VCALENDAR
PRODID:-//http://statistik.d-u-v.org//PHP ultracalendar//EN
VERSION:2.0
METHOD:PUBLISH
BEGIN:VEVENT
DTSTAMP:20260422T201640
CREATED:20160215T203348
UID:1776889000.0.83360900-31423@statistik.d-u-v.org
SUMMARY:Dirty girls 24 hour Trail Race
DESCRIPTION: Dirty girls 24 hour Trail Race\n
  \n
  diane[at]dirtyrunnerproductions.com
DTSTART:20160723T080000
DTEND:20160724T235900
LOCATION:Mansfield, ON\, CAN
URL:http://www.dirtyrunnerproductions.com/dirty_girls_run/index.html
CATEGORIES:Ultramarathon
CONTACT:
CLASS:PUBLIC
PRIORITY:5
TRANSP:OPAQUE
END:VEVENT
END:VCALENDAR
