BEGIN:VCALENDAR
PRODID:-//http://statistik.d-u-v.org//PHP ultracalendar//EN
VERSION:2.0
METHOD:PUBLISH
BEGIN:VEVENT
DTSTAMP:20260419T192452
CREATED:20160131T093224
UID:1776626692.0.08707300-31112@statistik.d-u-v.org
SUMMARY:Ultra Chojnik (UCH) 100 Km
DESCRIPTION: Ultra Chojnik (UCH) 100 Km\n
  \n
  biuro[at]chojnikmaraton.pl
DTSTART:20160527T000000
DTEND:20160528T235900
LOCATION:Jelenia Gora, Sobieszow\, POL
URL:http://chojnikmaraton.pl/
CATEGORIES:Ultramarathon
CONTACT:
CLASS:PUBLIC
PRIORITY:5
TRANSP:OPAQUE
END:VEVENT
END:VCALENDAR
