BEGIN:VCALENDAR
PRODID:-//http://statistik.d-u-v.org//PHP ultracalendar//EN
VERSION:2.0
METHOD:PUBLISH
BEGIN:VEVENT
DTSTAMP:20260425T170324
CREATED:20160128T162118
UID:1777136604.0.82318100-31058@statistik.d-u-v.org
SUMMARY:Osaka Yodogawa 70 Km Ultra Marathon
DESCRIPTION: Osaka Yodogawa 70 Km Ultra Marathon\n
  \n
  
DTSTART:20160327T054000
DTEND:00000000T235900
LOCATION:Osaka\, JPN
URL:http://jtbsports.jp/contents/yodogawa-ultra/
CATEGORIES:Ultramarathon
CONTACT:
CLASS:PUBLIC
PRIORITY:5
TRANSP:OPAQUE
END:VEVENT
END:VCALENDAR
