BEGIN:VCALENDAR
PRODID:-//http://statistik.d-u-v.org//PHP ultracalendar//EN
VERSION:2.0
METHOD:PUBLISH
BEGIN:VEVENT
DTSTAMP:20260422T210004
CREATED:20081025T000000
UID:1776891604.0.21278000-3102@statistik.d-u-v.org
SUMMARY:Ultraloop 50 van Assen
DESCRIPTION: Ultraloop 50 van Assen\n
  Nellie van der Made\n
  mica.made[at]planet.nl
DTSTART:20090705T000000
DTEND:00000000T235900
LOCATION:Assen\, NED
URL:http://www.aac61.nl
CATEGORIES:Ultramarathon
CONTACT:Nellie van der Made
CLASS:PUBLIC
PRIORITY:5
TRANSP:OPAQUE
END:VEVENT
END:VCALENDAR
