BEGIN:VCALENDAR
PRODID:-//http://statistik.d-u-v.org//PHP ultracalendar//EN
VERSION:2.0
METHOD:PUBLISH
BEGIN:VEVENT
DTSTAMP:20260423T020320
CREATED:20160108T090139
UID:1776909800.0.08280200-30817@statistik.d-u-v.org
SUMMARY:Cambodia 2016 - The Ancient Khmer Path
DESCRIPTION: Cambodia 2016 - The Ancient Khmer Path\n
  Stefan Betzelt\n
  info[at]global-limits.com
DTSTART:20161125T120000
DTEND:20161203T235900
LOCATION:Phnom Penh\, CAM
URL:http://www.global-limits.com
CATEGORIES:Ultramarathon
CONTACT:Stefan Betzelt
CLASS:PUBLIC
PRIORITY:5
TRANSP:OPAQUE
END:VEVENT
END:VCALENDAR
