BEGIN:VCALENDAR
PRODID:-//http://statistik.d-u-v.org//PHP ultracalendar//EN
VERSION:2.0
METHOD:PUBLISH
BEGIN:VEVENT
DTSTAMP:20260423T044405
CREATED:20160114T162539
UID:1776919445.0.71742800-30739@statistik.d-u-v.org
SUMMARY:Jinping to Smangus Ultramarathon Stage Race - Stage 1
DESCRIPTION: Jinping to Smangus Ultramarathon Stage Race - Stage 1\n
  \n
  
DTSTART:20151213T060000
DTEND:00000000T235900
LOCATION:Jianshi Township\, TPE
URL:https://www.facebook.com/events/418860118297352/
CATEGORIES:Ultramarathon
CONTACT:
CLASS:PUBLIC
PRIORITY:5
TRANSP:OPAQUE
END:VEVENT
END:VCALENDAR
