BEGIN:VCALENDAR
PRODID:-//http://statistik.d-u-v.org//PHP ultracalendar//EN
VERSION:2.0
METHOD:PUBLISH
BEGIN:VEVENT
DTSTAMP:20260424T225510
CREATED:20151229T091423
UID:1777071310.0.73142600-30654@statistik.d-u-v.org
SUMMARY:Viimase Öö Unistus 12-hours
DESCRIPTION: Viimase Öö Unistus 12-hours\n
  \n
  info[at]estonian-ultrarunners.com
DTSTART:20161231T120000
DTEND:00000000T235900
LOCATION:Meremöisa\, EST
URL:http://www.estonian-ultrarunners.com/node/47
CATEGORIES:Ultramarathon
CONTACT:
CLASS:PUBLIC
PRIORITY:5
TRANSP:OPAQUE
END:VEVENT
END:VCALENDAR
