BEGIN:VCALENDAR
PRODID:-//http://statistik.d-u-v.org//PHP ultracalendar//EN
VERSION:2.0
METHOD:PUBLISH
BEGIN:VEVENT
DTSTAMP:20260425T032323
CREATED:20151229T091423
UID:1777087403.0.72258300-30653@statistik.d-u-v.org
SUMMARY:Viimase Öö Unistus 12-hours
DESCRIPTION: Viimase Öö Unistus 12-hours\n
  \n
  info[at]estonian-ultrarunners.com
DTSTART:20151231T120000
DTEND:00000000T235900
LOCATION:Meremöisa\, EST
URL:http://www.estonian-ultrarunners.com/node/50?option=com_content&view=article&id=541%3Aviimase-oeoe-unistus-2012&catid=156&Itemid=901&lang=en&language=en#tab-0-0
CATEGORIES:Ultramarathon
CONTACT:
CLASS:PUBLIC
PRIORITY:5
TRANSP:OPAQUE
END:VEVENT
END:VCALENDAR
