BEGIN:VCALENDAR
PRODID:-//http://statistik.d-u-v.org//PHP ultracalendar//EN
VERSION:2.0
METHOD:PUBLISH
BEGIN:VEVENT
DTSTAMP:20260423T034937
CREATED:20151210T120943
UID:1776916177.0.63673900-30520@statistik.d-u-v.org
SUMMARY:Guanshan 50mi Ultramarathon
DESCRIPTION: Guanshan 50mi Ultramarathon\n
  \n
  
DTSTART:20151225T070000
DTEND:00000000T235900
LOCATION:Guanshan Township\, TPE
URL:http://bao-ming.com/eb/www/activity_content.php?activitysn=1050
CATEGORIES:Ultramarathon
CONTACT:
CLASS:PUBLIC
PRIORITY:5
TRANSP:OPAQUE
END:VEVENT
END:VCALENDAR
