BEGIN:VCALENDAR
PRODID:-//http://statistik.d-u-v.org//PHP ultracalendar//EN
VERSION:2.0
METHOD:PUBLISH
BEGIN:VEVENT
DTSTAMP:20260425T220248
CREATED:20151225T232817
UID:1777154568.0.75197400-30495@statistik.d-u-v.org
SUMMARY:MSIG Singapore Action Asia 50
DESCRIPTION: MSIG Singapore Action Asia 50\n
  \n
  
DTSTART:20160716T053000
DTEND:00000000T235900
LOCATION:Singapore\, SGP
URL:http://www.actionasiaevents.com/our-events/2016-msig-singapore/
CATEGORIES:Ultramarathon
CONTACT:
CLASS:PUBLIC
PRIORITY:5
TRANSP:OPAQUE
END:VEVENT
END:VCALENDAR
