BEGIN:VCALENDAR
PRODID:-//http://statistik.d-u-v.org//PHP ultracalendar//EN
VERSION:2.0
METHOD:PUBLISH
BEGIN:VEVENT
DTSTAMP:20260422T221425
CREATED:20160219T162855
UID:1776896065.0.29481300-30481@statistik.d-u-v.org
SUMMARY:Bandera 50 km Ultratrail
DESCRIPTION: Bandera 50 km Ultratrail\n
  Chris McWatters\n
  chris[at]tejastrails.com
DTSTART:20170107T073000
DTEND:00000000T235900
LOCATION:Bandera, TX\, USA
URL:http://www.tejastrails.com/Bandera.html
CATEGORIES:Ultramarathon
CONTACT:Chris McWatters
CLASS:PUBLIC
PRIORITY:5
TRANSP:OPAQUE
END:VEVENT
END:VCALENDAR
