BEGIN:VCALENDAR
PRODID:-//http://statistik.d-u-v.org//PHP ultracalendar//EN
VERSION:2.0
METHOD:PUBLISH
BEGIN:VEVENT
DTSTAMP:20260422T134031
CREATED:20080927T000000
UID:1776865231.0.97878700-3030@statistik.d-u-v.org
SUMMARY:6-Stundenlauf am Wienerberg
DESCRIPTION: 6-Stundenlauf am Wienerberg\n
  Andrea Rois\n
  office[at]run-it.at
DTSTART:20081025T000000
DTEND:00000000T235900
LOCATION:Wien\, AUT
URL:http://www3.your-sports.com/details/?eventid=1038
CATEGORIES:Ultramarathon
CONTACT:Andrea Rois
CLASS:PUBLIC
PRIORITY:5
TRANSP:OPAQUE
END:VEVENT
END:VCALENDAR
