BEGIN:VCALENDAR
PRODID:-//http://statistik.d-u-v.org//PHP ultracalendar//EN
VERSION:2.0
METHOD:PUBLISH
BEGIN:VEVENT
DTSTAMP:20260419T233214
CREATED:20151126T113434
UID:1776641534.0.37133500-30130@statistik.d-u-v.org
SUMMARY:100 Miles Thailand
DESCRIPTION: 100 Miles Thailand\n
  \n
  
DTSTART:20151106T050000
DTEND:00000000T235900
LOCATION:Chiang Mai\, THA
URL:https://www.facebook.com/100MilesThailand/
CATEGORIES:Ultramarathon
CONTACT:
CLASS:PUBLIC
PRIORITY:5
TRANSP:OPAQUE
END:VEVENT
END:VCALENDAR
