BEGIN:VCALENDAR
PRODID:-//http://statistik.d-u-v.org//PHP ultracalendar//EN
VERSION:2.0
METHOD:PUBLISH
BEGIN:VEVENT
DTSTAMP:20260425T173807
CREATED:20151126T004632
UID:1777138687.0.27678500-30127@statistik.d-u-v.org
SUMMARY:Republic of Korea 1500 Km Ultra Marathon
DESCRIPTION: Republic of Korea 1500 Km Ultra Marathon\n
  Kim, Jun Seong\n
  kum1500[at]hanmail.net
DTSTART:20070921T170000
DTEND:20071007T180000
LOCATION:Seoul\, KOR
URL:https://m.nec.go.kr/abroad/bbs/view/B0000342/3795.do?menuNo=801030ysearchYear=ysearchMonth=ysearchWrd=ysearchCnd=yviewType=ypageIndex=5=20ysearchOption1=&searchYear=&searchMonth=&searchWrd=&searchCnd=&viewType=&pageIndex=108&section=&searchOption1=
CATEGORIES:Ultramarathon
CONTACT:Kim, Jun Seong
CLASS:PUBLIC
PRIORITY:5
TRANSP:OPAQUE
END:VEVENT
END:VCALENDAR
