BEGIN:VCALENDAR
PRODID:-//http://statistik.d-u-v.org//PHP ultracalendar//EN
VERSION:2.0
METHOD:PUBLISH
BEGIN:VEVENT
DTSTAMP:20260421T221641
CREATED:20160208T145959
UID:1776809801.0.38238400-29933@statistik.d-u-v.org
SUMMARY:Trail Transfronteirico de Barrancos
DESCRIPTION: Trail Transfronteirico de Barrancos\n
  \n
  associacao.omundodacorrida[at]gmail.com
DTSTART:20151128T090000
DTEND:00000000T235900
LOCATION:Barrancos\, POR
URL:http://www.associacaomundodacorrida.com/site_associacao/trailtransfronteirico
CATEGORIES:Ultramarathon
CONTACT:
CLASS:PUBLIC
PRIORITY:5
TRANSP:OPAQUE
END:VEVENT
END:VCALENDAR
