BEGIN:VCALENDAR
PRODID:-//http://statistik.d-u-v.org//PHP ultracalendar//EN
VERSION:2.0
METHOD:PUBLISH
BEGIN:VEVENT
DTSTAMP:20260425T233213
CREATED:20160131T155801
UID:1777159933.0.29693100-29858@statistik.d-u-v.org
SUMMARY:Houffatrail 50km
DESCRIPTION: Houffatrail 50km\n
  \n
  info[at]xtrails.eu
DTSTART:20161211T070000
DTEND:00000000T235900
LOCATION:Houffalize\, BEL
URL:http://www.sportevents.be/2016/xtrails-houffalize-winter/
CATEGORIES:Ultramarathon
CONTACT:
CLASS:PUBLIC
PRIORITY:5
TRANSP:OPAQUE
END:VEVENT
END:VCALENDAR
