BEGIN:VCALENDAR
PRODID:-//http://statistik.d-u-v.org//PHP ultracalendar//EN
VERSION:2.0
METHOD:PUBLISH
BEGIN:VEVENT
DTSTAMP:20260424T163019
CREATED:20160203T140346
UID:1777048219.0.66385900-29824@statistik.d-u-v.org
SUMMARY:Golser Benefizultralauf 48h
DESCRIPTION: Golser Benefizultralauf 48h\n
  Magdalena Hafner\n
  hanshafner[at]gmx.at
DTSTART:20160506T100000
DTEND:00000000T235900
LOCATION:Gols\, AUT
URL:http://www.ultralaufteamgols.at/index.php/termine/48-h-lauf
CATEGORIES:Ultramarathon
CONTACT:Magdalena Hafner
CLASS:PUBLIC
PRIORITY:5
TRANSP:OPAQUE
END:VEVENT
END:VCALENDAR
