BEGIN:VCALENDAR
PRODID:-//http://statistik.d-u-v.org//PHP ultracalendar//EN
VERSION:2.0
METHOD:PUBLISH
BEGIN:VEVENT
DTSTAMP:20260420T045952
CREATED:20151116T012103
UID:1776661192.0.38434300-29761@statistik.d-u-v.org
SUMMARY:The Blackall 100
DESCRIPTION: The Blackall 100\n
  Alun Davies\n
  info[at]runqueensland.com
DTSTART:20161022T060000
DTEND:20161023T100000
LOCATION:Mapleton, QLD\, AUS
URL:http://www.runqueensland.com/Events/00%20BLL100.html
CATEGORIES:Ultramarathon
CONTACT:Alun Davies
CLASS:PUBLIC
PRIORITY:5
TRANSP:OPAQUE
END:VEVENT
END:VCALENDAR
