BEGIN:VCALENDAR
PRODID:-//http://statistik.d-u-v.org//PHP ultracalendar//EN
VERSION:2.0
METHOD:PUBLISH
BEGIN:VEVENT
DTSTAMP:20260424T160634
CREATED:20151116T013609
UID:1777046794.0.89057200-29760@statistik.d-u-v.org
SUMMARY:Christine Schroeder 58 km Geburtstagslauf
DESCRIPTION: Christine Schroeder 58 km Geburtstagslauf\n
  Christian Hottas\n
  chhottas2[at]yahoo.de
DTSTART:20161113T090000
DTEND:00000000T235900
LOCATION:Hamburg\, GER
URL:http://my6.raceresult.com/g62/?lang=de
CATEGORIES:Ultramarathon
CONTACT:Christian Hottas
CLASS:PUBLIC
PRIORITY:5
TRANSP:OPAQUE
END:VEVENT
END:VCALENDAR
