BEGIN:VCALENDAR
PRODID:-//http://statistik.d-u-v.org//PHP ultracalendar//EN
VERSION:2.0
METHOD:PUBLISH
BEGIN:VEVENT
DTSTAMP:20260420T005855
CREATED:20151116T033217
UID:1776646735.0.32090500-29755@statistik.d-u-v.org
SUMMARY:Tenderfoot Boogie 50 Mile Ultra Trail Race
DESCRIPTION: Tenderfoot Boogie 50 Mile Ultra Trail Race\n
  Gottfried Grosser\n
  gottfried_grosser[at]shaw.ca
DTSTART:20160625T050000
DTEND:00000000T235900
LOCATION:Squamish, BC\, CAN
URL:http://www.trailwhisperer.ca/Tenderfoot/
CATEGORIES:Ultramarathon
CONTACT:Gottfried Grosser
CLASS:PUBLIC
PRIORITY:5
TRANSP:OPAQUE
END:VEVENT
END:VCALENDAR
