BEGIN:VCALENDAR
PRODID:-//http://statistik.d-u-v.org//PHP ultracalendar//EN
VERSION:2.0
METHOD:PUBLISH
BEGIN:VEVENT
DTSTAMP:20260420T035229
CREATED:20140922T125854
UID:1776657149.0.40711500-29711@statistik.d-u-v.org
SUMMARY:NUTS Pallas 134k Trail Ultra
DESCRIPTION: NUTS Pallas 134k Trail Ultra\n
  Eero Lumme\n
  eppu[at]nuts.fi
DTSTART:20160715T180000
DTEND:20160717T235900
LOCATION:Enontekiö Hetta\, FIN
URL:http://www.nuts.fi
CATEGORIES:Ultramarathon
CONTACT:Eero Lumme
CLASS:PUBLIC
PRIORITY:5
TRANSP:OPAQUE
END:VEVENT
END:VCALENDAR
