BEGIN:VCALENDAR
PRODID:-//http://statistik.d-u-v.org//PHP ultracalendar//EN
VERSION:2.0
METHOD:PUBLISH
BEGIN:VEVENT
DTSTAMP:20260423T022600
CREATED:20151117T121840
UID:1776911160.0.87124400-29641@statistik.d-u-v.org
SUMMARY:Dakeng Ultra Run - 52 km
DESCRIPTION: Dakeng Ultra Run - 52 km\n
  \n
  w0933408199[at]gmail.com
DTSTART:20151010T070000
DTEND:00000000T235900
LOCATION:Beitun District\, TPE
URL:https://www.beclass.com/rid=1837a7855e9a40dd06b1
CATEGORIES:Ultramarathon
CONTACT:
CLASS:PUBLIC
PRIORITY:5
TRANSP:OPAQUE
END:VEVENT
END:VCALENDAR
