BEGIN:VCALENDAR
PRODID:-//http://statistik.d-u-v.org//PHP ultracalendar//EN
VERSION:2.0
METHOD:PUBLISH
BEGIN:VEVENT
DTSTAMP:20260420T081523
CREATED:20151119T235900
UID:1776672923.0.67162000-29638@statistik.d-u-v.org
SUMMARY:Gran Trail Courmayeur 90 km
DESCRIPTION: Gran Trail Courmayeur 90 km\n
  Alessandra Nicoletti\n
  info[at]gtcourmayeur.com
DTSTART:20160709T060000
DTEND:20160710T080000
LOCATION:Courmayeur\, ITA
URL:http://www.gtcourmayeur.com/
CATEGORIES:Ultramarathon
CONTACT:Alessandra Nicoletti
CLASS:PUBLIC
PRIORITY:5
TRANSP:OPAQUE
END:VEVENT
END:VCALENDAR
