BEGIN:VCALENDAR
PRODID:-//http://statistik.d-u-v.org//PHP ultracalendar//EN
VERSION:2.0
METHOD:PUBLISH
BEGIN:VEVENT
DTSTAMP:20260420T070821
CREATED:20151117T174011
UID:1776668901.0.94032400-29597@statistik.d-u-v.org
SUMMARY:Les 16 heures de Beneharnum
DESCRIPTION: Les 16 heures de Beneharnum\n
  \n
  sport[at]mairie-lescar.fr
DTSTART:20040515T193000
DTEND:20040516T235900
LOCATION:Lescar\, FRA
URL:http://www.kikourou.net/calendrier/course-349-16_heures_de_beneharnum-2004.html
CATEGORIES:Ultramarathon
CONTACT:
CLASS:PUBLIC
PRIORITY:5
TRANSP:OPAQUE
END:VEVENT
END:VCALENDAR
