BEGIN:VCALENDAR
PRODID:-//http://statistik.d-u-v.org//PHP ultracalendar//EN
VERSION:2.0
METHOD:PUBLISH
BEGIN:VEVENT
DTSTAMP:20260422T201630
CREATED:20151117T104822
UID:1776888990.0.80954200-29592@statistik.d-u-v.org
SUMMARY:Laulasmaa Ultra (shortened 16h)
DESCRIPTION: Laulasmaa Ultra (shortened 16h)\n
  \n
  
DTSTART:20160618T000000
DTEND:20160619T235900
LOCATION:Laulasmaa\, EST
URL:http://estonian-ultrarunners.com/index.php?option=com_content&view=article&id=623:laulasmaa-ultra-2014&catid=153&Itemid=946&lang=et
CATEGORIES:Ultramarathon
CONTACT:
CLASS:PUBLIC
PRIORITY:5
TRANSP:OPAQUE
END:VEVENT
END:VCALENDAR
