BEGIN:VCALENDAR
PRODID:-//http://statistik.d-u-v.org//PHP ultracalendar//EN
VERSION:2.0
METHOD:PUBLISH
BEGIN:VEVENT
DTSTAMP:20260423T062937
CREATED:20151109T164131
UID:1776925777.0.30307100-29413@statistik.d-u-v.org
SUMMARY:Old Dominion 100 Mile Endurance Run
DESCRIPTION: Old Dominion 100 Mile Endurance Run\n
  Ray Waldron\n
  olddominionrun[at]gmail.com
DTSTART:20160604T040000
DTEND:20160605T235900
LOCATION:Woodstock, VA\, USA
URL:http://www.olddominionrun.org/
CATEGORIES:Ultramarathon
CONTACT:Ray Waldron
CLASS:PUBLIC
PRIORITY:5
TRANSP:OPAQUE
END:VEVENT
END:VCALENDAR
