BEGIN:VCALENDAR
PRODID:-//http://statistik.d-u-v.org//PHP ultracalendar//EN
VERSION:2.0
METHOD:PUBLISH
BEGIN:VEVENT
DTSTAMP:20260419T220715
CREATED:20090509T173311
UID:1776636435.0.17924200-2940@statistik.d-u-v.org
SUMMARY:Internationaler Spreelauf Gesamtwertung
DESCRIPTION: Internationaler Spreelauf Gesamtwertung\n
  \n
  
DTSTART:20020813T000000
DTEND:20020818T235900
LOCATION:Berlin\, GER
URL:http://www.spreelauf.com/spreelauf/index.php?lan=de&page=SL2002&content=Anfang
CATEGORIES:Ultramarathon
CONTACT:
CLASS:PUBLIC
PRIORITY:5
TRANSP:OPAQUE
END:VEVENT
END:VCALENDAR
