BEGIN:VCALENDAR
PRODID:-//http://statistik.d-u-v.org//PHP ultracalendar//EN
VERSION:2.0
METHOD:PUBLISH
BEGIN:VEVENT
DTSTAMP:20260419T234453
CREATED:20151101T064147
UID:1776642293.0.00120200-29239@statistik.d-u-v.org
SUMMARY:Febapple Frozen 50 Miles
DESCRIPTION: Febapple Frozen 50 Miles\n
  Rick McNulty\n
  njtrailseries[at]gmail.com
DTSTART:20160220T070000
DTEND:00000000T235900
LOCATION:Millburn, NJ\, USA
URL:https://sites.google.com/site/njtrailseries/febapple
CATEGORIES:Ultramarathon
CONTACT:Rick McNulty
CLASS:PUBLIC
PRIORITY:5
TRANSP:OPAQUE
END:VEVENT
END:VCALENDAR
