BEGIN:VCALENDAR
PRODID:-//http://statistik.d-u-v.org//PHP ultracalendar//EN
VERSION:2.0
METHOD:PUBLISH
BEGIN:VEVENT
DTSTAMP:20260419T220814
CREATED:20151101T064147
UID:1776636494.0.50508400-29224@statistik.d-u-v.org
SUMMARY:Minnesota Voyageur Trail 50 Mile Ultra
DESCRIPTION: Minnesota Voyageur Trail 50 Mile Ultra\n
  \n
  
DTSTART:20030726T000000
DTEND:00000000T235900
LOCATION:Carlton, MN\, USA
URL:http://www.voyageur50.com/
CATEGORIES:Ultramarathon
CONTACT:
CLASS:PUBLIC
PRIORITY:5
TRANSP:OPAQUE
END:VEVENT
END:VCALENDAR
