BEGIN:VCALENDAR
PRODID:-//http://statistik.d-u-v.org//PHP ultracalendar//EN
VERSION:2.0
METHOD:PUBLISH
BEGIN:VEVENT
DTSTAMP:20260419T192402
CREATED:20151027T181814
UID:1776626642.0.10966700-29137@statistik.d-u-v.org
SUMMARY:Minnesota Voyageur Trail 50 Mile Ultra
DESCRIPTION: Minnesota Voyageur Trail 50 Mile Ultra\n
  \n
  
DTSTART:19820731T000000
DTEND:00000000T235900
LOCATION:Carlton, MN\, USA
URL:http://www.voyageur50.com/
CATEGORIES:Ultramarathon
CONTACT:
CLASS:PUBLIC
PRIORITY:5
TRANSP:OPAQUE
END:VEVENT
END:VCALENDAR
