BEGIN:VCALENDAR
PRODID:-//http://statistik.d-u-v.org//PHP ultracalendar//EN
VERSION:2.0
METHOD:PUBLISH
BEGIN:VEVENT
DTSTAMP:20260419T192435
CREATED:20151020T183719
UID:1776626675.0.14124200-29081@statistik.d-u-v.org
SUMMARY:Minnesota Voyageur Trail 50 Mile Ultra
DESCRIPTION: Minnesota Voyageur Trail 50 Mile Ultra\n
  Rollie Everson\n
  info[at]voyageur50.com
DTSTART:20150725T060000
DTEND:00000000T235900
LOCATION:Carlton, MN\, USA
URL:http://www.voyageur50.com/
CATEGORIES:Ultramarathon
CONTACT:Rollie Everson
CLASS:PUBLIC
PRIORITY:5
TRANSP:OPAQUE
END:VEVENT
END:VCALENDAR
