BEGIN:VCALENDAR
PRODID:-//http://statistik.d-u-v.org//PHP ultracalendar//EN
VERSION:2.0
METHOD:PUBLISH
BEGIN:VEVENT
DTSTAMP:20260425T202618
CREATED:20151129T094001
UID:1777148778.0.47160900-28998@statistik.d-u-v.org
SUMMARY:Cheonjinam Ultra Marathon Festival - 100 Km
DESCRIPTION: Cheonjinam Ultra Marathon Festival - 100 Km\n
  \n
  
DTSTART:20120519T000000
DTEND:20120520T235900
LOCATION:Gwangju\, KOR
URL:http://www.cjaultra.com/
CATEGORIES:Ultramarathon
CONTACT:
CLASS:PUBLIC
PRIORITY:5
TRANSP:OPAQUE
END:VEVENT
END:VCALENDAR
