BEGIN:VCALENDAR
PRODID:-//http://statistik.d-u-v.org//PHP ultracalendar//EN
VERSION:2.0
METHOD:PUBLISH
BEGIN:VEVENT
DTSTAMP:20260423T020420
CREATED:20151014T172156
UID:1776909860.0.24005200-28925@statistik.d-u-v.org
SUMMARY:Capital Classic 6 days - 100mi Split
DESCRIPTION: Capital Classic 6 days - 100mi Split\n
  Stefan Roodt\n
  stefanroodt2[at]gmail.com
DTSTART:20150919T090000
DTEND:20150925T235900
LOCATION:Pietermaritzburg\, RSA
URL:http://www.100cc.co.za/
CATEGORIES:Ultramarathon
CONTACT:Stefan Roodt
CLASS:PUBLIC
PRIORITY:5
TRANSP:OPAQUE
END:VEVENT
END:VCALENDAR
