BEGIN:VCALENDAR
PRODID:-//http://statistik.d-u-v.org//PHP ultracalendar//EN
VERSION:2.0
METHOD:PUBLISH
BEGIN:VEVENT
DTSTAMP:20260420T211221
CREATED:20151014T171156
UID:1776719541.0.41225900-28919@statistik.d-u-v.org
SUMMARY:Marathon des Sables
DESCRIPTION: Marathon des Sables\n
  \n
  
DTSTART:19960404T000000
DTEND:19960410T235900
LOCATION:Ouarzazate\, MAR
URL:http://www.darbaroud.com/
CATEGORIES:Ultramarathon
CONTACT:
CLASS:PUBLIC
PRIORITY:5
TRANSP:OPAQUE
END:VEVENT
END:VCALENDAR
