BEGIN:VCALENDAR
PRODID:-//http://statistik.d-u-v.org//PHP ultracalendar//EN
VERSION:2.0
METHOD:PUBLISH
BEGIN:VEVENT
DTSTAMP:20260424T150751
CREATED:20150706T154213
UID:1777043271.0.62052100-28914@statistik.d-u-v.org
SUMMARY:Self-Transcendence 12 Hour Race Ottawa - 50mi Split
DESCRIPTION: Self-Transcendence 12 Hour Race Ottawa - 50mi Split\n
  Sanchita Fleming\n
  nstaman[at]uottawa.ca
DTSTART:20150926T090000
DTEND:00000000T235900
LOCATION:Ottawa, ON\, CAN
URL:http://ca.srichinmoyraces.org/events/6-12-24hr
CATEGORIES:Ultramarathon
CONTACT:Sanchita Fleming
CLASS:PUBLIC
PRIORITY:5
TRANSP:OPAQUE
END:VEVENT
END:VCALENDAR
