BEGIN:VCALENDAR
PRODID:-//http://statistik.d-u-v.org//PHP ultracalendar//EN
VERSION:2.0
METHOD:PUBLISH
BEGIN:VEVENT
DTSTAMP:20260419T122501
CREATED:20151013T175321
UID:1776601501.0.33602200-28901@statistik.d-u-v.org
SUMMARY:Lt. JC Stone 50K UltraMarathon
DESCRIPTION: Lt. JC Stone 50K UltraMarathon\n
  Lou D'Angelo\n
  loudangelo[at]aol.com
DTSTART:20160319T080000
DTEND:00000000T235900
LOCATION:Pittsburgh, PA\, USA
URL:http://www.jcstone50k.com
CATEGORIES:Ultramarathon
CONTACT:Lou D'Angelo
CLASS:PUBLIC
PRIORITY:5
TRANSP:OPAQUE
END:VEVENT
END:VCALENDAR
