BEGIN:VCALENDAR
PRODID:-//http://statistik.d-u-v.org//PHP ultracalendar//EN
VERSION:2.0
METHOD:PUBLISH
BEGIN:VEVENT
DTSTAMP:20260420T041213
CREATED:20150923T180343
UID:1776658333.0.67231100-28735@statistik.d-u-v.org
SUMMARY:Endure 24 hour run
DESCRIPTION: Endure 24 hour run\n
  \n
  endure24[at]racesolutions.co.uk
DTSTART:20160611T120000
DTEND:20160612T120000
LOCATION:Reading\, GBR
URL:http://www.endure24.co.uk/
CATEGORIES:Ultramarathon
CONTACT:
CLASS:PUBLIC
PRIORITY:5
TRANSP:OPAQUE
END:VEVENT
END:VCALENDAR
