BEGIN:VCALENDAR
PRODID:-//http://statistik.d-u-v.org//PHP ultracalendar//EN
VERSION:2.0
METHOD:PUBLISH
BEGIN:VEVENT
DTSTAMP:20260423T053959
CREATED:20150922T170442
UID:1776922799.0.01659900-28677@statistik.d-u-v.org
SUMMARY:Badwater Cerro Gordo
DESCRIPTION: Badwater Cerro Gordo\n
  \n
  outthere[at]adventurecorps.com
DTSTART:20170120T000000
DTEND:20170121T235900
LOCATION:Lone Pine, CA\, USA
URL:http://www.badwater.com/event/badwater-cerro-gordo/
CATEGORIES:Ultramarathon
CONTACT:
CLASS:PUBLIC
PRIORITY:5
TRANSP:OPAQUE
END:VEVENT
END:VCALENDAR
