BEGIN:VCALENDAR
PRODID:-//http://statistik.d-u-v.org//PHP ultracalendar//EN
VERSION:2.0
METHOD:PUBLISH
BEGIN:VEVENT
DTSTAMP:20260423T043508
CREATED:20150918T170940
UID:1776918908.0.18923100-28608@statistik.d-u-v.org
SUMMARY:Bigfoot 120mi Endurance Run
DESCRIPTION: Bigfoot 120mi Endurance Run\n
  Candice Burt\n
  RunCandiceRun[at]gmail.com
DTSTART:20151009T160000
DTEND:20151011T235900
LOCATION:Cougar, WA\, USA
URL:http://www.bigfoot200.com/
CATEGORIES:Ultramarathon
CONTACT:Candice Burt
CLASS:PUBLIC
PRIORITY:5
TRANSP:OPAQUE
END:VEVENT
END:VCALENDAR
